BEGIN:VCALENDAR
VERSION:2.0
PRODID:-//wp-events-plugin.com//7.2.3.1//EN
TZID:Europe/Paris
X-WR-TIMEZONE:Europe/Paris
BEGIN:VEVENT
UID:157@agfg-franconville.fr
DTSTART;TZID=Europe/Paris;VALUE=DATE:20260704
DTEND;TZID=Europe/Paris;VALUE=DATE:20260706
DTSTAMP:20251218T072909Z
URL:https://agfg-franconville.fr/evenements/salon-du-vieux-papier-et-de-la
 -carte-postale-ancienne-2026/
SUMMARY:Salon du Vieux Papier et de la Carte Postale Ancienne 2026
DESCRIPTION:Le Salon de généalogie Paris 15 se prolonge le samedi 4 et le
  dimanche 5 juillet par un Salon du Vieux Papier et de la Carte postale an
 cienne au Marché du livre Paris Halle aux Chevaux René Froment\, près d
 u Parc Brassens\, à 15 minutes à pied de la Mairie.\n\nEn savoir plus
ATTACH;FMTTYPE=image/jpeg:https://agfg-franconville.fr/wp-content/uploads/
 2025/12/affiche-12e-salon-genealogie-paris-15.webp
CATEGORIES:Salons
LOCATION:Mairie de Paris 15\, médiathèque Yourcenar et parc Georges Brass
 ens\, 15e arrondissement de Paris\, Paris\, 75015\, Île-de-France\, Franc
 e
X-APPLE-STRUCTURED-LOCATION;VALUE=URI;X-ADDRESS=15e arrondissement de Paris
 \, Paris\, 75015\, Île-de-France\, France;X-APPLE-RADIUS=100;X-TITLE=Mair
 ie de Paris 15\, médiathèque Yourcenar et parc Georges Brassens:geo:0,0
END:VEVENT
BEGIN:VTIMEZONE
TZID:Europe/Paris
X-LIC-LOCATION:Europe/Paris
BEGIN:DAYLIGHT
DTSTART:20260329T030000
TZOFFSETFROM:+0100
TZOFFSETTO:+0200
TZNAME:CEST
END:DAYLIGHT
END:VTIMEZONE
END:VCALENDAR