BEGIN:VCALENDAR
VERSION:2.0
PRODID:-//wp-events-plugin.com//7.2.3.1//EN
TZID:Europe/Paris
X-WR-TIMEZONE:Europe/Paris
BEGIN:VEVENT
UID:156@agfg-franconville.fr
DTSTART;TZID=Europe/Paris;VALUE=DATE:20260702
DTEND;TZID=Europe/Paris;VALUE=DATE:20260705
DTSTAMP:20251218T072338Z
URL:https://agfg-franconville.fr/evenements/salon-de-genealogie-2026-paris
 -15/
SUMMARY:Salon de généalogie 2026 Paris 15
DESCRIPTION:La 12e édition du grand Salon de généalogie grand public org
 anisé à la Mairie du 15e arrondissement par Archives &amp\; Culture avec
  le partenariat de Geneanet se tiendra du 2 au 4 juillet 2026.\n\nLa gén
 éalogie est un thème qui fédère un nombre croissant de passionnés : d
 ix millions de personnes ont déjà entrepris des recherches sur l'histoir
 e de leur famille\, un adulte sur deux a commencé son arbre ou envisage d
 e le faire\, la généalogie est en France le troisième passe-temps aprè
 s le jardinage et le bricolage.\n\nOrganisé depuis douze ans par la Mairi
 e du 15e arrondissement et Archives &amp\; Culture\, avec le partenariat d
 e Geneanet\, le Salon a des intitulés de stands thématiques\, pour que l
 e grand public\, les curieux\, mais aussi les amateurs débutants ou chevr
 onnés s'y retrouvent et y circulent plus facilement.\n\nEn savoir plus
ATTACH;FMTTYPE=image/jpeg:https://agfg-franconville.fr/wp-content/uploads/
 2025/12/affiche-12e-salon-genealogie-paris-15.webp
CATEGORIES:Salons
LOCATION:Mairie de Paris 15\, médiathèque Yourcenar et parc Georges Brass
 ens\, 15e arrondissement de Paris\, Paris\, 75015\, Île-de-France\, Franc
 e
X-APPLE-STRUCTURED-LOCATION;VALUE=URI;X-ADDRESS=15e arrondissement de Paris
 \, Paris\, 75015\, Île-de-France\, France;X-APPLE-RADIUS=100;X-TITLE=Mair
 ie de Paris 15\, médiathèque Yourcenar et parc Georges Brassens:geo:0,0
END:VEVENT
BEGIN:VTIMEZONE
TZID:Europe/Paris
X-LIC-LOCATION:Europe/Paris
BEGIN:DAYLIGHT
DTSTART:20260329T030000
TZOFFSETFROM:+0100
TZOFFSETTO:+0200
TZNAME:CEST
END:DAYLIGHT
END:VTIMEZONE
END:VCALENDAR