BEGIN:VCALENDAR
VERSION:2.0
PRODID:-//wp-events-plugin.com//7.2.3.1//EN
TZID:Europe/Paris
X-WR-TIMEZONE:Europe/Paris
BEGIN:VEVENT
UID:132@agfg-franconville.fr
DTSTART;TZID=Europe/Paris:20260414T200000
DTEND;TZID=Europe/Paris:20260414T230000
DTSTAMP:20260408T141637Z
URL:https://agfg-franconville.fr/evenements/reunion-mensuelle-agfg-8/
SUMMARY:Réunion mensuelle AGFG
DESCRIPTION:Accueil et ouverture de la bibliothèque à partir de 19 h 30
 .\n\nVenez assister aux petites infos généalogiques\, à l’exposé\, 
 à la revue de presse généalogique.\n\nVenez également avec vos anecdot
 es pour échanger ou partager.\n\nAu programme de cette réunion :\n– Pe
 tites infos d’Éliane présentées par Sylviane\n– Exposé d'Annie : L
 e sculpteur pontoisien Marcel Bouraine et les internés en Suisse\n– Rev
 ue de presse de Sylviane
ATTACH;FMTTYPE=image/jpeg:https://agfg-franconville.fr/wp-content/uploads/
 2023/08/image-reunion-mensuelle.webp
CATEGORIES:Réunions mensuelles AGFG
LOCATION:Maison des associations\, 2\, rue du Maréchal Foch\, Franconville
 \, Val-d’Oise\, 95130\, Île-de-France\, France
X-APPLE-STRUCTURED-LOCATION;VALUE=URI;X-ADDRESS=2\, rue du Maréchal Foch\,
  Franconville\, Val-d’Oise\, 95130\, Île-de-France\, France;X-APPLE-RAD
 IUS=100;X-TITLE=Maison des associations:geo:0,0
END:VEVENT
BEGIN:VTIMEZONE
TZID:Europe/Paris
X-LIC-LOCATION:Europe/Paris
BEGIN:DAYLIGHT
DTSTART:20260329T030000
TZOFFSETFROM:+0100
TZOFFSETTO:+0200
TZNAME:CEST
END:DAYLIGHT
END:VTIMEZONE
END:VCALENDAR