BEGIN:VCALENDAR
VERSION:2.0
PRODID:-//wp-events-plugin.com//7.2.3.1//EN
TZID:Europe/Paris
X-WR-TIMEZONE:Europe/Paris
BEGIN:VEVENT
UID:141@agfg-franconville.fr
DTSTART;TZID=Europe/Paris:20260609T200000
DTEND;TZID=Europe/Paris:20260609T230000
DTSTAMP:20250611T160454Z
URL:https://agfg-franconville.fr/evenements/reunion-mensuelle-agfg-10/
SUMMARY:Réunion mensuelle AGFG
DESCRIPTION:Accueil et ouverture de la bibliothèque à partir de 19&nbsp\;
 h&nbsp\;30.\n\nVenez assister aux petites infos généalogiques\, à l’e
 xposé\, à la revue de presse généalogique.\n\nVenez également avec vo
 s anecdotes pour échanger ou partager.
ATTACH;FMTTYPE=image/jpeg:https://agfg-franconville.fr/wp-content/uploads/
 2023/08/image-reunion-mensuelle.webp
CATEGORIES:Réunions mensuelles AGFG
LOCATION:Maison des associations\, 2\, rue du Maréchal Foch\, Franconville
 \, Val-d’Oise\, 95130\, Île-de-France\, France
X-APPLE-STRUCTURED-LOCATION;VALUE=URI;X-ADDRESS=2\, rue du Maréchal Foch\,
  Franconville\, Val-d’Oise\, 95130\, Île-de-France\, France;X-APPLE-RAD
 IUS=100;X-TITLE=Maison des associations:geo:0,0
END:VEVENT
BEGIN:VTIMEZONE
TZID:Europe/Paris
X-LIC-LOCATION:Europe/Paris
BEGIN:DAYLIGHT
DTSTART:20260329T030000
TZOFFSETFROM:+0100
TZOFFSETTO:+0200
TZNAME:CEST
END:DAYLIGHT
END:VTIMEZONE
END:VCALENDAR