BEGIN:VCALENDAR
VERSION:2.0
PRODID:-//wp-events-plugin.com//7.2.3.1//EN
TZID:Europe/Paris
X-WR-TIMEZONE:Europe/Paris
BEGIN:VEVENT
UID:136@agfg-franconville.fr
DTSTART;TZID=Europe/Paris:20260505T151500
DTEND;TZID=Europe/Paris:20260505T164500
DTSTAMP:20260110T062641Z
URL:https://agfg-franconville.fr/evenements/reunion-de-bureau-agfg-9/
SUMMARY:Réunion de bureau AGFG
DESCRIPTION:Cette réunion est réservée aux membres du conseil d'administ
 ration.
ATTACH;FMTTYPE=image/jpeg:https://agfg-franconville.fr/wp-content/uploads/
 2023/08/image-reunion-bureau.webp
CATEGORIES:Réunions de bureau AGFG
LOCATION:Maison des associations\, 2\, rue du Maréchal Foch\, Franconville
 \, Val-d’Oise\, 95130\, Île-de-France\, France
X-APPLE-STRUCTURED-LOCATION;VALUE=URI;X-ADDRESS=2\, rue du Maréchal Foch\,
  Franconville\, Val-d’Oise\, 95130\, Île-de-France\, France;X-APPLE-RAD
 IUS=100;X-TITLE=Maison des associations:geo:0,0
END:VEVENT
BEGIN:VTIMEZONE
TZID:Europe/Paris
X-LIC-LOCATION:Europe/Paris
BEGIN:DAYLIGHT
DTSTART:20260329T030000
TZOFFSETFROM:+0100
TZOFFSETTO:+0200
TZNAME:CEST
END:DAYLIGHT
END:VTIMEZONE
END:VCALENDAR