BEGIN:VCALENDAR
VERSION:2.0
PRODID:-//wp-events-plugin.com//7.2.3.1//EN
TZID:Europe/Paris
X-WR-TIMEZONE:Europe/Paris
BEGIN:VEVENT
UID:145@agfg-franconville.fr
DTSTART;TZID=Europe/Paris:20260626T140000
DTEND;TZID=Europe/Paris:20260626T173000
DTSTAMP:20250611T160611Z
URL:https://agfg-franconville.fr/evenements/permanence-agfg-32/
SUMMARY:Permanence AGFG
DESCRIPTION:Venez avec votre équipement et votre généalogie pour échang
 er\, partager\, rechercher\, compléter\, aider ou vous faire aider.
ATTACH;FMTTYPE=image/jpeg:https://agfg-franconville.fr/wp-content/uploads/
 2023/08/image-permanence.webp
CATEGORIES:Permanences AGFG
LOCATION:Maison des associations\, 2\, rue du Maréchal Foch\, Franconville
 \, Val-d’Oise\, 95130\, Île-de-France\, France
X-APPLE-STRUCTURED-LOCATION;VALUE=URI;X-ADDRESS=2\, rue du Maréchal Foch\,
  Franconville\, Val-d’Oise\, 95130\, Île-de-France\, France;X-APPLE-RAD
 IUS=100;X-TITLE=Maison des associations:geo:0,0
END:VEVENT
BEGIN:VTIMEZONE
TZID:Europe/Paris
X-LIC-LOCATION:Europe/Paris
BEGIN:DAYLIGHT
DTSTART:20260329T030000
TZOFFSETFROM:+0100
TZOFFSETTO:+0200
TZNAME:CEST
END:DAYLIGHT
END:VTIMEZONE
END:VCALENDAR