BEGIN:VCALENDAR
VERSION:2.0
PRODID:-//wp-events-plugin.com//7.2.3.1//EN
TZID:Europe/Paris
X-WR-TIMEZONE:Europe/Paris
BEGIN:VEVENT
UID:89@agfg-franconville.fr
DTSTART;TZID=Europe/Paris;VALUE=DATE:20261008
DTEND;TZID=Europe/Paris;VALUE=DATE:20261019
DTSTAMP:20260408T141716Z
URL:https://agfg-franconville.fr/evenements/exposition-sur-les-metiers-anc
 iens/
SUMMARY:Exposition "Métiers de nos ancêtres"
DESCRIPTION:Cette exposition est organisée par les adhérents de l’assoc
 iation AGFG.
ATTACH;FMTTYPE=image/jpeg:https://agfg-franconville.fr/wp-content/uploads/
 2020/03/photo-non-disponible.jpg
CATEGORIES:Expositions AGFG
LOCATION:Espace culturel Saint-Exupéry\, 32\, rue de la Station\, Franconv
 ille\, Val-d’Oise\, 95130\, Île-de-France\, France
X-APPLE-STRUCTURED-LOCATION;VALUE=URI;X-ADDRESS=32\, rue de la Station\, Fr
 anconville\, Val-d’Oise\, 95130\, Île-de-France\, France;X-APPLE-RADIUS
 =100;X-TITLE=Espace culturel Saint-Exupéry:geo:0,0
END:VEVENT
BEGIN:VTIMEZONE
TZID:Europe/Paris
X-LIC-LOCATION:Europe/Paris
BEGIN:DAYLIGHT
DTSTART:20260329T030000
TZOFFSETFROM:+0100
TZOFFSETTO:+0200
TZNAME:CEST
END:DAYLIGHT
END:VTIMEZONE
END:VCALENDAR